22.92113832961037500
0.00000000000000000
0.00000000000000000
-22.92113832961018400
701055.77748565667000000
4913875.90490226820000000
